Package: Xeva Version: 1.22.1 Command: /home/biocbuild/bbs-3.20-bioc/R/bin/R CMD check --install=check:Xeva.install-out.txt --library=/home/biocbuild/bbs-3.20-bioc/R/site-library --timings Xeva_1.22.1.tar.gz StartedAt: 2025-04-01 03:21:59 -0400 (Tue, 01 Apr 2025) EndedAt: 2025-04-01 03:26:21 -0400 (Tue, 01 Apr 2025) EllapsedTime: 262.5 seconds RetCode: 0 Status: OK CheckDir: Xeva.Rcheck Warnings: 0