Package: Xeva Version: 1.22.1 Command: /home/biocbuild/bbs-3.20-bioc/R/bin/R CMD build --keep-empty-dirs --no-resave-data --md5 Xeva StartedAt: 2025-03-31 19:37:03 -0400 (Mon, 31 Mar 2025) EndedAt: 2025-03-31 19:38:01 -0400 (Mon, 31 Mar 2025) EllapsedTime: 58.0 seconds RetCode: 0 Status: OK PackageFile: Xeva_1.22.1.tar.gz PackageFileSize: 1.573 MiB