Package: Xeva Version: 1.22.0 Command: /home/biocbuild/R/R/bin/R CMD build --keep-empty-dirs --no-resave-data Xeva StartedAt: 2024-11-20 04:46:11 -0000 (Wed, 20 Nov 2024) EndedAt: 2024-11-20 04:47:29 -0000 (Wed, 20 Nov 2024) EllapsedTime: 78.1 seconds RetCode: 0 Status: OK PackageFile: Xeva_1.22.0.tar.gz PackageFileSize: 1.562 MiB