Package: Xeva Version: 1.22.1 Command: /Library/Frameworks/R.framework/Resources/bin/R CMD build --keep-empty-dirs --no-resave-data Xeva StartedAt: 2025-04-01 10:05:23 -0400 (Tue, 01 Apr 2025) EndedAt: 2025-04-01 10:06:43 -0400 (Tue, 01 Apr 2025) EllapsedTime: 79.6 seconds RetCode: 0 Status: OK PackageFile: Xeva_1.22.1.tar.gz PackageFileSize: 1.571 MiB