Package: Xeva Version: 1.22.1 Command: rm -rf Xeva.buildbin-libdir && mkdir Xeva.buildbin-libdir && /Users/biocbuild/BBS/utils/build-universal.sh Xeva_1.22.1.tar.gz /Library/Frameworks/R.framework/Resources/bin/R Xeva.buildbin-libdir StartedAt: 2025-04-02 16:49:34 -0400 (Wed, 02 Apr 2025) EndedAt: 2025-04-02 16:50:21 -0400 (Wed, 02 Apr 2025) EllapsedTime: 46.3 seconds RetCode: 0 Status: OK PackageFile: Xeva_1.22.1.tgz PackageFileSize: 1.437 MiB