Package: XVector Version: 0.46.0 Command: /Library/Frameworks/R.framework/Resources/bin/R CMD build --keep-empty-dirs --no-resave-data XVector StartedAt: 2025-03-31 22:54:53 -0400 (Mon, 31 Mar 2025) EndedAt: 2025-03-31 22:54:55 -0400 (Mon, 31 Mar 2025) EllapsedTime: 2.3 seconds RetCode: 0 Status: OK PackageFile: XVector_0.46.0.tar.gz PackageFileSize: 66.25 KiB