Package: XNAString Version: 1.14.0 Command: /Library/Frameworks/R.framework/Resources/bin/R CMD build --keep-empty-dirs --no-resave-data XNAString StartedAt: 2025-04-01 10:06:09 -0400 (Tue, 01 Apr 2025) EndedAt: 2025-04-01 10:10:01 -0400 (Tue, 01 Apr 2025) EllapsedTime: 232.3 seconds RetCode: 0 Status: OK PackageFile: XNAString_1.14.0.tar.gz PackageFileSize: 1.631 MiB