Package: XINA Version: 1.24.0 Command: /home/biocbuild/R/R/bin/R CMD INSTALL XINA StartedAt: 2025-03-31 20:25:38 -0000 (Mon, 31 Mar 2025) EndedAt: 2025-03-31 20:25:46 -0000 (Mon, 31 Mar 2025) EllapsedTime: 8.2 seconds RetCode: 0 Status: OK