Package: XINA Version: 1.24.0 Command: rm -rf XINA.buildbin-libdir && mkdir XINA.buildbin-libdir && F:\biocbuild\bbs-3.20-bioc\R\bin\R.exe CMD INSTALL --build --library=XINA.buildbin-libdir XINA_1.24.0.tar.gz StartedAt: 2025-04-01 09:29:19 -0400 (Tue, 01 Apr 2025) EndedAt: 2025-04-01 09:29:40 -0400 (Tue, 01 Apr 2025) EllapsedTime: 20.5 seconds RetCode: 0 Status: OK PackageFile: XINA_1.24.0.zip PackageFileSize: 1.331 MiB