Package: XINA Version: 1.24.0 Command: /Library/Frameworks/R.framework/Resources/bin/R CMD build --keep-empty-dirs --no-resave-data XINA StartedAt: 2025-03-31 22:54:22 -0400 (Mon, 31 Mar 2025) EndedAt: 2025-03-31 22:55:22 -0400 (Mon, 31 Mar 2025) EllapsedTime: 59.9 seconds RetCode: 0 Status: OK PackageFile: XINA_1.24.0.tar.gz PackageFileSize: 2.854 MiB