Package: XINA Version: 1.24.0 Command: /Library/Frameworks/R.framework/Resources/bin/R CMD build --keep-empty-dirs --no-resave-data XINA StartedAt: 2025-04-01 10:05:28 -0400 (Tue, 01 Apr 2025) EndedAt: 2025-04-01 10:06:09 -0400 (Tue, 01 Apr 2025) EllapsedTime: 40.8 seconds RetCode: 0 Status: OK PackageFile: XINA_1.24.0.tar.gz PackageFileSize: 3.119 MiB