Package: XDE Version: 2.52.0 Command: /Library/Frameworks/R.framework/Resources/bin/R CMD build --keep-empty-dirs --no-resave-data XDE StartedAt: 2025-03-31 22:53:51 -0400 (Mon, 31 Mar 2025) EndedAt: 2025-03-31 22:56:26 -0400 (Mon, 31 Mar 2025) EllapsedTime: 154.7 seconds RetCode: 0 Status: OK PackageFile: XDE_2.52.0.tar.gz PackageFileSize: 1.318 MiB