Package: Voyager Version: 1.8.1 Command: /home/biocbuild/R/R/bin/R CMD INSTALL Voyager StartedAt: 2025-03-31 21:03:58 -0000 (Mon, 31 Mar 2025) EndedAt: 2025-03-31 21:03:59 -0000 (Mon, 31 Mar 2025) EllapsedTime: 0.3 seconds RetCode: 1 Status: ERROR