Package: Voyager Version: 1.8.1 Command: /home/biocbuild/R/R/bin/R CMD build --keep-empty-dirs --no-resave-data Voyager StartedAt: 2025-04-01 03:27:23 -0000 (Tue, 01 Apr 2025) EndedAt: 2025-04-01 03:27:25 -0000 (Tue, 01 Apr 2025) EllapsedTime: 2.0 seconds RetCode: 1 Status: ERROR PackageFile: None PackageFileSize: NA