Package: Voyager Version: 1.8.1 Command: chmod a+r Voyager -R && F:\biocbuild\bbs-3.20-bioc\R\bin\R.exe CMD build --keep-empty-dirs --no-resave-data Voyager StartedAt: 2025-03-31 22:33:22 -0400 (Mon, 31 Mar 2025) EndedAt: 2025-03-31 22:37:49 -0400 (Mon, 31 Mar 2025) EllapsedTime: 267.7 seconds RetCode: 0 Status: OK PackageFile: Voyager_1.8.1.tar.gz PackageFileSize: 2.8 MiB