Package: Voyager Version: 1.8.1 Command: rm -rf Voyager.buildbin-libdir && mkdir Voyager.buildbin-libdir && F:\biocbuild\bbs-3.20-bioc\R\bin\R.exe CMD INSTALL --build --library=Voyager.buildbin-libdir Voyager_1.8.1.tar.gz StartedAt: 2025-04-01 09:28:29 -0400 (Tue, 01 Apr 2025) EndedAt: 2025-04-01 09:29:59 -0400 (Tue, 01 Apr 2025) EllapsedTime: 90.2 seconds RetCode: 0 Status: OK PackageFile: Voyager_1.8.1.zip PackageFileSize: 2.775 MiB