Package: Voyager Version: 1.8.1 Command: /home/biocbuild/bbs-3.20-bioc/R/bin/R CMD build --keep-empty-dirs --no-resave-data --md5 Voyager StartedAt: 2025-03-31 19:34:37 -0400 (Mon, 31 Mar 2025) EndedAt: 2025-03-31 19:36:10 -0400 (Mon, 31 Mar 2025) EllapsedTime: 93.1 seconds RetCode: 0 Status: OK PackageFile: Voyager_1.8.1.tar.gz PackageFileSize: 3.962 MiB