Package: Voyager Version: 1.8.1 Command: /Library/Frameworks/R.framework/Resources/bin/R CMD check --install=check:Voyager.install-out.txt --library=/Library/Frameworks/R.framework/Resources/library --no-vignettes --timings Voyager_1.8.1.tar.gz StartedAt: 2025-04-01 10:48:32 -0400 (Tue, 01 Apr 2025) EndedAt: 2025-04-01 11:09:47 -0400 (Tue, 01 Apr 2025) EllapsedTime: 1274.4 seconds RetCode: 0 Status: OK CheckDir: Voyager.Rcheck Warnings: 0