Package: Voyager Version: 1.8.1 Command: /Library/Frameworks/R.framework/Resources/bin/R CMD INSTALL Voyager StartedAt: 2025-03-31 17:55:33 -0400 (Mon, 31 Mar 2025) EndedAt: 2025-03-31 17:56:29 -0400 (Mon, 31 Mar 2025) EllapsedTime: 56.7 seconds RetCode: 0 Status: OK