Package: VisiumIO Version: 1.2.0 Command: /home/biocbuild/R/R/bin/R CMD build --keep-empty-dirs --no-resave-data VisiumIO StartedAt: 2025-04-01 03:27:11 -0000 (Tue, 01 Apr 2025) EndedAt: 2025-04-01 03:28:01 -0000 (Tue, 01 Apr 2025) EllapsedTime: 50.1 seconds RetCode: 0 Status: OK PackageFile: VisiumIO_1.2.0.tar.gz PackageFileSize: 1.527 MiB