Package: VisiumIO Version: 1.2.0 Command: /Library/Frameworks/R.framework/Resources/bin/R CMD INSTALL VisiumIO StartedAt: 2025-03-31 15:27:09 -0400 (Mon, 31 Mar 2025) EndedAt: 2025-03-31 15:28:03 -0400 (Mon, 31 Mar 2025) EllapsedTime: 54.0 seconds RetCode: 0 Status: OK