Package: VisiumIO Version: 1.2.0 Command: /Library/Frameworks/R.framework/Resources/bin/R CMD check --install=check:VisiumIO.install-out.txt --library=/Library/Frameworks/R.framework/Resources/library --no-vignettes --timings VisiumIO_1.2.0.tar.gz StartedAt: 2025-04-01 10:48:28 -0400 (Tue, 01 Apr 2025) EndedAt: 2025-04-01 10:54:52 -0400 (Tue, 01 Apr 2025) EllapsedTime: 383.8 seconds RetCode: 0 Status: OK CheckDir: VisiumIO.Rcheck Warnings: 0