Package: VisiumIO Version: 1.2.0 Command: /Library/Frameworks/R.framework/Resources/bin/R CMD INSTALL VisiumIO StartedAt: 2025-03-31 15:44:40 -0400 (Mon, 31 Mar 2025) EndedAt: 2025-03-31 15:45:09 -0400 (Mon, 31 Mar 2025) EllapsedTime: 29.6 seconds RetCode: 0 Status: OK