Package: ViSEAGO Version: 1.20.0 Command: /home/biocbuild/R/R/bin/R CMD INSTALL ViSEAGO StartedAt: 2025-03-31 21:02:05 -0000 (Mon, 31 Mar 2025) EndedAt: 2025-03-31 21:02:46 -0000 (Mon, 31 Mar 2025) EllapsedTime: 41.1 seconds RetCode: 0 Status: OK