Package: ViSEAGO Version: 1.20.0 Command: /home/biocbuild/R/R/bin/R CMD check --install=check:ViSEAGO.install-out.txt --library=/home/biocbuild/R/R/site-library --no-vignettes --timings ViSEAGO_1.20.0.tar.gz StartedAt: 2025-04-01 11:44:10 -0000 (Tue, 01 Apr 2025) EndedAt: 2025-04-01 11:47:46 -0000 (Tue, 01 Apr 2025) EllapsedTime: 215.3 seconds RetCode: 1 Status: ERROR CheckDir: ViSEAGO.Rcheck Warnings: NA