Package: ViSEAGO Version: 1.20.0 Command: /home/biocbuild/R/R/bin/R CMD build --keep-empty-dirs --no-resave-data ViSEAGO StartedAt: 2025-04-01 03:26:56 -0000 (Tue, 01 Apr 2025) EndedAt: 2025-04-01 03:28:06 -0000 (Tue, 01 Apr 2025) EllapsedTime: 70.1 seconds RetCode: 0 Status: OK PackageFile: ViSEAGO_1.20.0.tar.gz PackageFileSize: 8.724 MiB