Package: ViSEAGO Version: 1.20.0 Command: /home/biocbuild/bbs-3.20-bioc/R/bin/R CMD check --install=check:ViSEAGO.install-out.txt --library=/home/biocbuild/bbs-3.20-bioc/R/site-library --timings ViSEAGO_1.20.0.tar.gz StartedAt: 2025-04-01 03:17:34 -0400 (Tue, 01 Apr 2025) EndedAt: 2025-04-01 03:21:03 -0400 (Tue, 01 Apr 2025) EllapsedTime: 209.3 seconds RetCode: 1 Status: ERROR CheckDir: ViSEAGO.Rcheck Warnings: NA