Package: ViSEAGO Version: 1.20.0 Command: /Library/Frameworks/R.framework/Resources/bin/R CMD check --install=check:ViSEAGO.install-out.txt --library=/Library/Frameworks/R.framework/Resources/library --no-vignettes --timings ViSEAGO_1.20.0.tar.gz StartedAt: 2025-04-01 10:47:42 -0400 (Tue, 01 Apr 2025) EndedAt: 2025-04-01 10:53:53 -0400 (Tue, 01 Apr 2025) EllapsedTime: 371.5 seconds RetCode: 1 Status: ERROR CheckDir: ViSEAGO.Rcheck Warnings: NA