Package: VariantTools Version: 1.48.0 Command: /Library/Frameworks/R.framework/Resources/bin/R CMD build --keep-empty-dirs --no-resave-data VariantTools StartedAt: 2025-03-31 22:47:38 -0400 (Mon, 31 Mar 2025) EndedAt: 2025-03-31 22:50:19 -0400 (Mon, 31 Mar 2025) EllapsedTime: 161.6 seconds RetCode: 0 Status: OK PackageFile: VariantTools_1.48.0.tar.gz PackageFileSize: 5.968 MiB