Package: VariantTools Version: 1.48.0 Command: /Library/Frameworks/R.framework/Resources/bin/R CMD check --install=check:VariantTools.install-out.txt --library=/Library/Frameworks/R.framework/Resources/library --no-vignettes --timings VariantTools_1.48.0.tar.gz StartedAt: 2025-04-02 12:24:51 -0400 (Wed, 02 Apr 2025) EndedAt: 2025-04-02 12:31:38 -0400 (Wed, 02 Apr 2025) EllapsedTime: 406.9 seconds RetCode: 0 Status: WARNINGS CheckDir: VariantTools.Rcheck Warnings: 2