Package: VariantExperiment Version: 1.20.0 Command: /home/biocbuild/R/R/bin/R CMD build --keep-empty-dirs --no-resave-data VariantExperiment StartedAt: 2025-04-01 03:24:12 -0000 (Tue, 01 Apr 2025) EndedAt: 2025-04-01 03:25:13 -0000 (Tue, 01 Apr 2025) EllapsedTime: 61.1 seconds RetCode: 0 Status: OK PackageFile: VariantExperiment_1.20.0.tar.gz PackageFileSize: 394.5 KiB