Package: VariantAnnotation Version: 1.52.0 Command: /Library/Frameworks/R.framework/Resources/bin/R CMD INSTALL VariantAnnotation StartedAt: 2025-03-31 16:02:49 -0400 (Mon, 31 Mar 2025) EndedAt: 2025-03-31 16:04:14 -0400 (Mon, 31 Mar 2025) EllapsedTime: 84.5 seconds RetCode: 0 Status: OK