Package: VarCon Version: 1.14.0 Command: chmod a+r VarCon -R && F:\biocbuild\bbs-3.20-bioc\R\bin\R.exe CMD build --keep-empty-dirs --no-resave-data VarCon StartedAt: 2025-03-31 22:31:37 -0400 (Mon, 31 Mar 2025) EndedAt: 2025-03-31 22:32:45 -0400 (Mon, 31 Mar 2025) EllapsedTime: 68.0 seconds RetCode: 0 Status: OK PackageFile: VarCon_1.14.0.tar.gz PackageFileSize: 1.889 MiB