Package: VanillaICE Version: 1.68.0 Command: /Library/Frameworks/R.framework/Resources/bin/R CMD INSTALL VanillaICE StartedAt: 2025-03-31 15:35:19 -0400 (Mon, 31 Mar 2025) EndedAt: 2025-03-31 15:36:38 -0400 (Mon, 31 Mar 2025) EllapsedTime: 79.1 seconds RetCode: 0 Status: OK