Package: VaSP Version: 1.18.0 Command: /Library/Frameworks/R.framework/Resources/bin/R CMD check --install=check:VaSP.install-out.txt --library=/Library/Frameworks/R.framework/Resources/library --no-vignettes --timings VaSP_1.18.0.tar.gz StartedAt: 2025-04-01 10:45:03 -0400 (Tue, 01 Apr 2025) EndedAt: 2025-04-01 10:53:12 -0400 (Tue, 01 Apr 2025) EllapsedTime: 488.9 seconds RetCode: 0 Status: OK CheckDir: VaSP.Rcheck Warnings: 0