Package: VERSO Version: 1.16.0 Command: /home/biocbuild/bbs-3.20-bioc/R/bin/R CMD check --install=check:VERSO.install-out.txt --library=/home/biocbuild/bbs-3.20-bioc/R/site-library --timings VERSO_1.16.0.tar.gz StartedAt: 2025-04-01 03:17:09 -0400 (Tue, 01 Apr 2025) EndedAt: 2025-04-01 03:17:36 -0400 (Tue, 01 Apr 2025) EllapsedTime: 27.0 seconds RetCode: 0 Status: OK CheckDir: VERSO.Rcheck Warnings: 0