Package: VDJdive Version: 1.8.0 Command: /home/biocbuild/R/R/bin/R CMD build --keep-empty-dirs --no-resave-data VDJdive StartedAt: 2025-04-01 03:25:38 -0000 (Tue, 01 Apr 2025) EndedAt: 2025-04-01 03:26:32 -0000 (Tue, 01 Apr 2025) EllapsedTime: 54.1 seconds RetCode: 0 Status: OK PackageFile: VDJdive_1.8.0.tar.gz PackageFileSize: 465 KiB