Package: VDJdive Version: 1.8.0 Command: /home/biocbuild/bbs-3.20-bioc/R/bin/R CMD check --install=check:VDJdive.install-out.txt --library=/home/biocbuild/bbs-3.20-bioc/R/site-library --timings VDJdive_1.8.0.tar.gz StartedAt: 2025-04-01 03:15:55 -0400 (Tue, 01 Apr 2025) EndedAt: 2025-04-01 03:19:26 -0400 (Tue, 01 Apr 2025) EllapsedTime: 211.2 seconds RetCode: 0 Status: OK CheckDir: VDJdive.Rcheck Warnings: 0