Package: VCFArray Version: 1.22.0 Command: F:\biocbuild\bbs-3.20-bioc\R\bin\R.exe CMD INSTALL VCFArray StartedAt: 2025-03-31 16:16:36 -0400 (Mon, 31 Mar 2025) EndedAt: 2025-03-31 16:17:36 -0400 (Mon, 31 Mar 2025) EllapsedTime: 60.3 seconds RetCode: 0 Status: OK