Package: VCFArray Version: 1.22.0 Command: /Library/Frameworks/R.framework/Resources/bin/R CMD check --install=check:VCFArray.install-out.txt --library=/Library/Frameworks/R.framework/Resources/library --no-vignettes --timings VCFArray_1.22.0.tar.gz StartedAt: 2025-04-01 10:45:30 -0400 (Tue, 01 Apr 2025) EndedAt: 2025-04-01 10:55:11 -0400 (Tue, 01 Apr 2025) EllapsedTime: 580.9 seconds RetCode: 0 Status: OK CheckDir: VCFArray.Rcheck Warnings: 0