Package: VCFArray Version: 1.22.0 Command: /Library/Frameworks/R.framework/Resources/bin/R CMD check --install=check:VCFArray.install-out.txt --library=/Library/Frameworks/R.framework/Resources/library --no-vignettes --timings VCFArray_1.22.0.tar.gz StartedAt: 2025-04-02 12:27:20 -0400 (Wed, 02 Apr 2025) EndedAt: 2025-04-02 12:33:00 -0400 (Wed, 02 Apr 2025) EllapsedTime: 339.8 seconds RetCode: 0 Status: OK CheckDir: VCFArray.Rcheck Warnings: 0