Package: VAExprs Version: 1.12.0 Command: /Library/Frameworks/R.framework/Resources/bin/R CMD check --install=check:VAExprs.install-out.txt --library=/Library/Frameworks/R.framework/Resources/library --no-vignettes --timings VAExprs_1.12.0.tar.gz StartedAt: 2025-04-02 12:21:21 -0400 (Wed, 02 Apr 2025) EndedAt: 2025-04-02 12:25:59 -0400 (Wed, 02 Apr 2025) EllapsedTime: 277.9 seconds RetCode: 0 Status: OK CheckDir: VAExprs.Rcheck Warnings: 0