Package: Uniquorn Version: 2.26.0 Command: /home/biocbuild/R/R/bin/R CMD INSTALL Uniquorn StartedAt: 2025-03-31 20:34:05 -0000 (Mon, 31 Mar 2025) EndedAt: 2025-03-31 20:34:54 -0000 (Mon, 31 Mar 2025) EllapsedTime: 49.2 seconds RetCode: 0 Status: OK