Package: Uniquorn Version: 2.26.0 Command: /home/biocbuild/bbs-3.20-bioc/R/bin/R CMD build --keep-empty-dirs --no-resave-data --md5 Uniquorn StartedAt: 2025-03-31 19:32:45 -0400 (Mon, 31 Mar 2025) EndedAt: 2025-03-31 19:33:23 -0400 (Mon, 31 Mar 2025) EllapsedTime: 38.1 seconds RetCode: 0 Status: OK PackageFile: Uniquorn_2.26.0.tar.gz PackageFileSize: 2.198 MiB