Package: UniProt.ws Version: 2.46.1 Command: rm -rf UniProt.ws.buildbin-libdir && mkdir UniProt.ws.buildbin-libdir && F:\biocbuild\bbs-3.20-bioc\R\bin\R.exe CMD INSTALL --build --library=UniProt.ws.buildbin-libdir UniProt.ws_2.46.1.tar.gz StartedAt: 2025-04-01 09:27:29 -0400 (Tue, 01 Apr 2025) EndedAt: 2025-04-01 09:28:05 -0400 (Tue, 01 Apr 2025) EllapsedTime: 36.1 seconds RetCode: 0 Status: OK PackageFile: UniProt.ws_2.46.1.zip PackageFileSize: 506.1 KiB