Package: UniProt.ws Version: 2.46.1 Command: /Library/Frameworks/R.framework/Resources/bin/R CMD check --install=check:UniProt.ws.install-out.txt --library=/Library/Frameworks/R.framework/Resources/library --no-vignettes --timings UniProt.ws_2.46.1.tar.gz StartedAt: 2025-04-02 12:18:12 -0400 (Wed, 02 Apr 2025) EndedAt: 2025-04-02 12:20:20 -0400 (Wed, 02 Apr 2025) EllapsedTime: 127.1 seconds RetCode: 0 Status: OK CheckDir: UniProt.ws.Rcheck Warnings: 0