Package: UniProt.ws Version: 2.46.1 Command: rm -rf UniProt.ws.buildbin-libdir && mkdir UniProt.ws.buildbin-libdir && /Users/biocbuild/BBS/utils/build-universal.sh UniProt.ws_2.46.1.tar.gz /Library/Frameworks/R.framework/Resources/bin/R UniProt.ws.buildbin-libdir StartedAt: 2025-04-02 16:44:59 -0400 (Wed, 02 Apr 2025) EndedAt: 2025-04-02 16:45:19 -0400 (Wed, 02 Apr 2025) EllapsedTime: 20.5 seconds RetCode: 0 Status: OK PackageFile: UniProt.ws_2.46.1.tgz PackageFileSize: 502.7 KiB