Package: Ularcirc Version: 1.24.0 Command: chmod a+r Ularcirc -R && F:\biocbuild\bbs-3.20-bioc\R\bin\R.exe CMD build --keep-empty-dirs --no-resave-data Ularcirc StartedAt: 2025-03-31 22:30:33 -0400 (Mon, 31 Mar 2025) EndedAt: 2025-03-31 22:30:58 -0400 (Mon, 31 Mar 2025) EllapsedTime: 24.4 seconds RetCode: 0 Status: OK PackageFile: Ularcirc_1.24.0.tar.gz PackageFileSize: 5.214 MiB