Package: Ularcirc Version: 1.24.0 Command: /home/biocbuild/bbs-3.20-bioc/R/bin/R CMD check --install=check:Ularcirc.install-out.txt --library=/home/biocbuild/bbs-3.20-bioc/R/site-library --timings Ularcirc_1.24.0.tar.gz StartedAt: 2025-04-01 03:11:20 -0400 (Tue, 01 Apr 2025) EndedAt: 2025-04-01 03:12:47 -0400 (Tue, 01 Apr 2025) EllapsedTime: 87.1 seconds RetCode: 0 Status: WARNINGS CheckDir: Ularcirc.Rcheck Warnings: 1