Package: UNDO Version: 1.48.0 Command: /home/biocbuild/R/R/bin/R CMD INSTALL UNDO StartedAt: 2025-03-31 20:11:50 -0000 (Mon, 31 Mar 2025) EndedAt: 2025-03-31 20:12:07 -0000 (Mon, 31 Mar 2025) EllapsedTime: 17.7 seconds RetCode: 0 Status: OK